BEGIN:VCALENDAR
VERSION:2.0
PRODID:-//crmgandhipublicschool - ECPv6.13.2.1//NONSGML v1.0//EN
CALSCALE:GREGORIAN
METHOD:PUBLISH
X-WR-CALNAME:crmgandhipublicschool
X-ORIGINAL-URL:https://cmrgandhipublicschool.com
X-WR-CALDESC:Events for crmgandhipublicschool
REFRESH-INTERVAL;VALUE=DURATION:PT1H
X-Robots-Tag:noindex
X-PUBLISHED-TTL:PT1H
BEGIN:VTIMEZONE
TZID:Asia/Kolkata
BEGIN:STANDARD
TZOFFSETFROM:+0530
TZOFFSETTO:+0530
TZNAME:IST
DTSTART:20240101T000000
END:STANDARD
END:VTIMEZONE
BEGIN:VEVENT
DTSTART;TZID=Asia/Kolkata:20240813T080000
DTEND;TZID=Asia/Kolkata:20240813T170000
DTSTAMP:20260421T181638
CREATED:20240731T122150Z
LAST-MODIFIED:20240801T104234Z
UID:6647-1723536000-1723568400@cmrgandhipublicschool.com
SUMMARY:Investiture Ceremony & Independence Day Celebrations & Competitions
DESCRIPTION:
URL:https://cmrgandhipublicschool.com/event/investiture-ceremony-independence-day-celebrations-competitions/
LOCATION:School\, No. 31/1\, Hadosiddapura Main Road\, Sarjapur Road\, Behind R.G.A Tech Park\, Bangalore\, karnataka\, 560 035\, India
END:VEVENT
BEGIN:VEVENT
DTSTART;TZID=Asia/Kolkata:20240809T080000
DTEND;TZID=Asia/Kolkata:20240809T170000
DTSTAMP:20260421T181638
CREATED:20240731T121902Z
LAST-MODIFIED:20240801T104327Z
UID:6645-1723190400-1723222800@cmrgandhipublicschool.com
SUMMARY:Field Trip (Montessori)
DESCRIPTION:
URL:https://cmrgandhipublicschool.com/event/field-trip-montessori/
LOCATION:School\, No. 31/1\, Hadosiddapura Main Road\, Sarjapur Road\, Behind R.G.A Tech Park\, Bangalore\, karnataka\, 560 035\, India
END:VEVENT
BEGIN:VEVENT
DTSTART;TZID=Asia/Kolkata:20240806T080000
DTEND;TZID=Asia/Kolkata:20240806T170000
DTSTAMP:20260421T181638
CREATED:20240731T121748Z
LAST-MODIFIED:20240801T104604Z
UID:6641-1722931200-1722963600@cmrgandhipublicschool.com
SUMMARY:Yellow Color Day (Montessori)
DESCRIPTION:
URL:https://cmrgandhipublicschool.com/event/yellow-color-day-montessori/
LOCATION:School\, No. 31/1\, Hadosiddapura Main Road\, Sarjapur Road\, Behind R.G.A Tech Park\, Bangalore\, karnataka\, 560 035\, India
END:VEVENT
BEGIN:VEVENT
DTSTART;TZID=Asia/Kolkata:20240801T080000
DTEND;TZID=Asia/Kolkata:20240801T170000
DTSTAMP:20260421T181638
CREATED:20240731T121645Z
LAST-MODIFIED:20240801T104653Z
UID:6639-1722499200-1722531600@cmrgandhipublicschool.com
SUMMARY:Hindi Club Activities & Competition (UKG - Gr 6)
DESCRIPTION:
URL:https://cmrgandhipublicschool.com/event/hindi-club-activities-competition-ukg-gr-6/
LOCATION:School\, No. 31/1\, Hadosiddapura Main Road\, Sarjapur Road\, Behind R.G.A Tech Park\, Bangalore\, karnataka\, 560 035\, India
END:VEVENT
BEGIN:VEVENT
DTSTART;TZID=Asia/Kolkata:20240730T080000
DTEND;TZID=Asia/Kolkata:20240730T170000
DTSTAMP:20260421T181638
CREATED:20240730T180100Z
LAST-MODIFIED:20240802T080552Z
UID:6630-1722326400-1722358800@cmrgandhipublicschool.com
SUMMARY:Tech Trivia Sparks Curiosity at CMR Gandhi Public School
DESCRIPTION:On July 29th\, 2024\, CMR Gandhi Public School hosted a vibrant Tech Trivia event for primary kids\, focusing on computer technology. Quizzes play a crucial role in education\, offering a fun way to assess and reinforce learning. They help kids improve their recall\, sharpen their thinking skills\, and boost their confidence. During the event\, the children were eager and excited to answer the questions\, showcasing their tech knowledge with enthusiasm. The quiz not only enhanced their understanding of technology but also encouraged teamwork and healthy competition. It was a day filled with joy and learning\, highlighting the importance of integrating interactive activities into the curriculum to foster a love for knowledge and innovation. \nThe Tech Trivia event emphasised the importance of staying updated with the latest technological advancements and how quizzes can make learning engaging and enjoyable. By participating in such activities\, students develop a keen interest in subjects that are essential for their future. The event concluded with a sense of accomplishment among the students\, as they not only learned new things but also had fun along the way. Events like these are instrumental in shaping young minds and preparing them for a tech-savvy world. \n  \n\n	\n		\n		\n\n	\n		\n\n								\n						\n					\n						\n\n			\n\n\n	\n		\n\n								\n						\n					\n						\n\n			\n\n\n	\n		\n\n								\n						\n					\n						\n\n			\n\n		\n		{"slidestoshow":3\,"slidestoscroll":1\,"dots":"true"\,"arrows":"true"\,"autoplay":"true"\,"autoplay_interval":3000\,"speed":300\,"loop":"true"\,"lazyload":""}
URL:https://cmrgandhipublicschool.com/event/tech-trivia-sparks-curiosity-at-cmr-gandhi-public-school/
LOCATION:School\, No. 31/1\, Hadosiddapura Main Road\, Sarjapur Road\, Behind R.G.A Tech Park\, Bangalore\, karnataka\, 560 035\, India
ATTACH;FMTTYPE=image/png:https://cmrgandhipublicschool.com/wp-content/uploads/2024/07/tech-eventimg1.png
END:VEVENT
BEGIN:VEVENT
DTSTART;TZID=Asia/Kolkata:20240702T080000
DTEND;TZID=Asia/Kolkata:20240702T170000
DTSTAMP:20260421T181638
CREATED:20240801T063034Z
LAST-MODIFIED:20240802T080602Z
UID:6683-1719907200-1719939600@cmrgandhipublicschool.com
SUMMARY:CMR Gandhi Public Students Excel at Olympiad Exams by Bagging Many Gold\, Silver\, and Bronze Medals
DESCRIPTION:The Silver Zone Olympiad 2023-2024 was a remarkable achievement for CMR Gandhi Public School. Our students\, rigorously trained by their teachers\, excelled in various categories\, bringing pride and glory to the school. Olympiad exams are competitive exams conducted at school level to identify and nurture young talents. They are designed to enhance students’ understanding and application of concepts across various subjects. Olympiad exams challenge students’ intellect\, improving their analytical and problem-solving skills. They foster a positive attitude towards learning and instil a sense of competition. Preparing for these exams encourages deeper knowledge and comprehension of subjects\, leading to better academic performance. \nOur students shone brightly: \n\nTalent Hunt: Bronze and Gold Medals.\nSocial Olympiad: 2 Gold and 1 Silver Medal.\nReasoning and Aptitude Olympiad: 4 Gold\, 3 Silver\, and 1 Bronze Medal.\nScience Olympiad: 3 Gold\, 3 Silver\, and 3 Bronze Medals.\nInformatics Olympiad: 2 Gold and 1 Silver Medal.\nHindi Olympiad: 1 Gold and 1 Silver Medal.\nGK Olympiad: 5 Gold and 1 Silver Medal.\n\nThese achievements underscore our commitment to fostering academic excellence and holistic development in our students. \n  \n  \n\n	\n		\n		\n\n	\n		\n\n								\n						\n					\n						\n\n			\n\n\n	\n		\n\n								\n						\n					\n						\n\n			\n\n\n	\n		\n\n								\n						\n					\n						\n\n			\n\n\n	\n		\n\n								\n						\n					\n						\n\n			\n\n\n	\n		\n\n								\n						\n					\n						\n\n			\n\n\n	\n		\n\n								\n						\n					\n						\n\n			\n\n\n	\n		\n\n								\n						\n					\n						\n\n			\n\n\n	\n		\n\n								\n						\n					\n						\n\n			\n\n\n	\n		\n\n								\n						\n					\n						\n\n			\n\n\n	\n		\n\n								\n						\n					\n						\n\n			\n\n\n	\n		\n\n								\n						\n					\n						\n\n			\n\n\n	\n		\n\n								\n						\n					\n						\n\n			\n\n\n	\n		\n\n								\n						\n					\n						\n\n			\n\n\n	\n		\n\n								\n						\n					\n						\n\n			\n\n\n	\n		\n\n								\n						\n					\n						\n\n			\n\n\n	\n		\n\n								\n						\n					\n						\n\n			\n\n\n	\n		\n\n								\n						\n					\n						\n\n			\n\n\n	\n		\n\n								\n						\n					\n						\n\n			\n\n\n	\n		\n\n								\n						\n					\n						\n\n			\n\n\n	\n		\n\n								\n						\n					\n						\n\n			\n\n\n	\n		\n\n								\n						\n					\n						\n\n			\n\n\n	\n		\n\n								\n						\n					\n						\n\n			\n\n\n	\n		\n\n								\n						\n					\n						\n\n			\n\n\n	\n		\n\n								\n						\n					\n						\n\n			\n\n\n	\n		\n\n								\n						\n					\n						\n\n			\n\n\n	\n		\n\n								\n						\n					\n						\n\n			\n\n\n	\n		\n\n								\n						\n					\n						\n\n			\n\n		\n		{"slidestoshow":3\,"slidestoscroll":1\,"dots":"true"\,"arrows":"true"\,"autoplay":"true"\,"autoplay_interval":3000\,"speed":300\,"loop":"true"\,"lazyload":""}
URL:https://cmrgandhipublicschool.com/event/cmr-gandhi-public-students-excel-at-olympiad-exams-by-bagging-many-gold-silver-and-bronze-medals/
LOCATION:School\, No. 31/1\, Hadosiddapura Main Road\, Sarjapur Road\, Behind R.G.A Tech Park\, Bangalore\, karnataka\, 560 035\, India
ATTACH;FMTTYPE=image/jpeg:https://cmrgandhipublicschool.com/wp-content/uploads/2024/08/Olympiad-new1.jpg
END:VEVENT
BEGIN:VEVENT
DTSTART;TZID=Asia/Kolkata:20240621T080000
DTEND;TZID=Asia/Kolkata:20240621T170000
DTSTAMP:20260421T181638
CREATED:20240730T173833Z
LAST-MODIFIED:20240802T080619Z
UID:6608-1718956800-1718989200@cmrgandhipublicschool.com
SUMMARY:Celebrating International Yoga Day at CMR Gandhi Public School
DESCRIPTION:Yoga is essential for kids as it promotes physical health\, mental clarity\, and emotional balance. It helps children develop flexibility\, strength\, and concentration while reducing stress and anxiety. On 21st June 2024\, CMR Gandhi Public School celebrated International Yoga Day with great enthusiasm. All students dressed in white and performed various yoga poses together\, creating a serene and harmonious atmosphere. The event began with a brief introduction to the benefits of yoga\, followed by guided sessions led by experienced instructors.. This celebration not only highlighted the school’s commitment to holistic development but also reinforced the importance of physical well-being and mindfulness in daily life. \n  \n\n	\n		\n		\n\n	\n		\n\n								\n						\n					\n						\n\n			\n\n\n	\n		\n\n								\n						\n					\n						\n\n			\n\n\n	\n		\n\n								\n						\n					\n						\n\n			\n\n		\n		{"slidestoshow":3\,"slidestoscroll":1\,"dots":"true"\,"arrows":"true"\,"autoplay":"true"\,"autoplay_interval":3000\,"speed":300\,"loop":"true"\,"lazyload":""}
URL:https://cmrgandhipublicschool.com/event/celebrating-international-yoga-day-at-cmr-gandhi-public-school/
LOCATION:School\, No. 31/1\, Hadosiddapura Main Road\, Sarjapur Road\, Behind R.G.A Tech Park\, Bangalore\, karnataka\, 560 035\, India
ATTACH;FMTTYPE=image/jpeg:https://cmrgandhipublicschool.com/wp-content/uploads/2024/06/Yoga.jpg
END:VEVENT
BEGIN:VEVENT
DTSTART;TZID=Asia/Kolkata:20240605T080000
DTEND;TZID=Asia/Kolkata:20240605T170000
DTSTAMP:20260421T181638
CREATED:20240730T175823Z
LAST-MODIFIED:20240802T080624Z
UID:6627-1717574400-1717606800@cmrgandhipublicschool.com
SUMMARY:Nurturing Nature: Celebrating World Environment Day at CMR Gandhi Public School
DESCRIPTION:World Environment Day is celebrated annually on June 5th 2024 to raise global awareness about environmental protection and encourage actions to safeguard our planet. The day serves as a reminder of the importance of preserving nature and promoting sustainable practices. This year\, CMR Gandhi Public School embraced the theme by engaging students in various eco-friendly activities. The celebration included Vermi composting workshops\, where students learned the benefits of organic waste recycling. Additionally\, children planted seeds\, fostering a sense of responsibility towards nature. To further instil environmental values\, students created beautiful drawings depicting nature and ways to protect it. These activities not only educated students about environmental conservation but also inspired them to become proactive in caring for our planet. The school’s commitment to holistic education was evident as students combined learning with hands-on experiences\, reinforcing the significance of environmental stewardship. \n  \n\n	\n		\n		\n\n	\n		\n\n								\n						\n					\n						\n\n			\n\n\n	\n		\n\n								\n						\n					\n						\n\n			\n\n\n	\n		\n\n								\n						\n					\n						\n\n			\n\n\n	\n		\n\n								\n						\n					\n						\n\n			\n\n\n	\n		\n\n								\n						\n					\n						\n\n			\n\n\n	\n		\n\n								\n						\n					\n						\n\n			\n\n		\n		{"slidestoshow":3\,"slidestoscroll":1\,"dots":"true"\,"arrows":"true"\,"autoplay":"true"\,"autoplay_interval":3000\,"speed":300\,"loop":"true"\,"lazyload":""}
URL:https://cmrgandhipublicschool.com/event/nurturing-nature-celebrating-world-environment-day-at-cmr-gandhi-public-school/
LOCATION:School\, No. 31/1\, Hadosiddapura Main Road\, Sarjapur Road\, Behind R.G.A Tech Park\, Bangalore\, karnataka\, 560 035\, India
ATTACH;FMTTYPE=image/jpeg:https://cmrgandhipublicschool.com/wp-content/uploads/2024/07/naturepln-img1.jpg
END:VEVENT
END:VCALENDAR