BEGIN:VCALENDAR
VERSION:2.0
PRODID:-//crmgandhipublicschool - ECPv6.13.2.1//NONSGML v1.0//EN
CALSCALE:GREGORIAN
METHOD:PUBLISH
X-WR-CALNAME:crmgandhipublicschool
X-ORIGINAL-URL:https://cmrgandhipublicschool.com
X-WR-CALDESC:Events for crmgandhipublicschool
REFRESH-INTERVAL;VALUE=DURATION:PT1H
X-Robots-Tag:noindex
X-PUBLISHED-TTL:PT1H
BEGIN:VTIMEZONE
TZID:Asia/Kolkata
BEGIN:STANDARD
TZOFFSETFROM:+0530
TZOFFSETTO:+0530
TZNAME:IST
DTSTART:20260101T000000
END:STANDARD
END:VTIMEZONE
BEGIN:VEVENT
DTSTART;TZID=Asia/Kolkata:20260522T090000
DTEND;TZID=Asia/Kolkata:20260522T120000
DTSTAMP:20260420T072840
CREATED:20260309T133948Z
LAST-MODIFIED:20260325T094656Z
UID:10547-1779440400-1779451200@cmrgandhipublicschool.com
SUMMARY:Looking for a fun and productive summer camp for your child?
DESCRIPTION:Join our exciting Summer Camp – Batch 2 where students enjoy learning\, creativity\, and energetic activities during the holidays.\n\nFrom Art & Craft\, Zumba Dance\, Fun Games\, and Karate to Math\, Science & English skill sessions\, every day is designed to keep children active\, confident\, and engaged.\n \nDates: 4 May – 22 May 2026\nTime: 9:00 AM – 12:00 PM\nFee: ₹3\,950 (Transport charges extra)\n \nLimited seats available. Register early to secure your child’s spot.\n\nFor registration and details: 8861202600 | 9980486091
URL:https://cmrgandhipublicschool.com/event/looking-for-a-fun-and-productive-summer-camp-for-your-child/
ATTACH;FMTTYPE=image/png:https://cmrgandhipublicschool.com/wp-content/uploads/2026/03/summer-camp.png
END:VEVENT
END:VCALENDAR