BEGIN:VCALENDAR
VERSION:2.0
PRODID:-//crmgandhipublicschool - ECPv6.13.2.1//NONSGML v1.0//EN
CALSCALE:GREGORIAN
METHOD:PUBLISH
X-ORIGINAL-URL:https://cmrgandhipublicschool.com
X-WR-CALDESC:Events for crmgandhipublicschool
REFRESH-INTERVAL;VALUE=DURATION:PT1H
X-Robots-Tag:noindex
X-PUBLISHED-TTL:PT1H
BEGIN:VTIMEZONE
TZID:Asia/Kolkata
BEGIN:STANDARD
TZOFFSETFROM:+0530
TZOFFSETTO:+0530
TZNAME:IST
DTSTART:20240101T000000
END:STANDARD
END:VTIMEZONE
BEGIN:VEVENT
DTSTART;TZID=Asia/Kolkata:20240815T080000
DTEND;TZID=Asia/Kolkata:20240815T170000
DTSTAMP:20260419T202417
CREATED:20240731T122237Z
LAST-MODIFIED:20240801T104111Z
UID:6649-1723708800-1723741200@cmrgandhipublicschool.com
SUMMARY:Independence Day
DESCRIPTION:
URL:https://cmrgandhipublicschool.com/event/independence-day/
LOCATION:School\, No. 31/1\, Hadosiddapura Main Road\, Sarjapur Road\, Behind R.G.A Tech Park\, Bangalore\, karnataka\, 560 035\, India
END:VEVENT
END:VCALENDAR